BEGIN:VCALENDAR
VERSION:2.0
PRODID:-//Gospelchor Markdorf - ECPv6.15.20//NONSGML v1.0//EN
CALSCALE:GREGORIAN
METHOD:PUBLISH
X-WR-CALNAME:Gospelchor Markdorf
X-ORIGINAL-URL:https://gospelchor-markdorf.de
X-WR-CALDESC:Veranstaltungen für Gospelchor Markdorf
REFRESH-INTERVAL;VALUE=DURATION:PT1H
X-Robots-Tag:noindex
X-PUBLISHED-TTL:PT1H
BEGIN:VTIMEZONE
TZID:UTC
BEGIN:STANDARD
TZOFFSETFROM:+0000
TZOFFSETTO:+0000
TZNAME:UTC
DTSTART:20230101T000000
END:STANDARD
END:VTIMEZONE
BEGIN:VEVENT
DTSTART;TZID=UTC:20240323T080000
DTEND;TZID=UTC:20240405T170000
DTSTAMP:20260424T020413
CREATED:20240125T095748Z
LAST-MODIFIED:20240125T095820Z
UID:580-1711180800-1712336400@gospelchor-markdorf.de
SUMMARY:Osterferien
DESCRIPTION:Osterferien 23.03.2024 – 05.04.2024\n\n\n27.03./03.04.24\nEvtl. Probe im Storchennest (in den Osterferien)
URL:https://gospelchor-markdorf.de/event/osterferien/
END:VEVENT
BEGIN:VEVENT
DTSTART;TZID=UTC:20240403T190000
DTEND;TZID=UTC:20240403T203000
DTSTAMP:20260424T020413
CREATED:20240401T222720Z
LAST-MODIFIED:20240401T222720Z
UID:994-1712170800-1712176200@gospelchor-markdorf.de
SUMMARY:Probe in den Osterferien
DESCRIPTION:Wir treffen uns im Storchennest
URL:https://gospelchor-markdorf.de/event/probe-in-den-osterferien/
LOCATION:Kinderhaus Storchennest\, Am Sportplatz 14\, 88677 Markdorf\, Deutschland
CATEGORIES:Probe
END:VEVENT
END:VCALENDAR