BEGIN:VCALENDAR
VERSION:2.0
PRODID:-//Gospelchor Markdorf - ECPv6.15.20//NONSGML v1.0//EN
CALSCALE:GREGORIAN
METHOD:PUBLISH
X-ORIGINAL-URL:https://gospelchor-markdorf.de
X-WR-CALDESC:Veranstaltungen für Gospelchor Markdorf
REFRESH-INTERVAL;VALUE=DURATION:PT1H
X-Robots-Tag:noindex
X-PUBLISHED-TTL:PT1H
BEGIN:VTIMEZONE
TZID:UTC
BEGIN:STANDARD
TZOFFSETFROM:+0000
TZOFFSETTO:+0000
TZNAME:UTC
DTSTART:20230101T000000
END:STANDARD
END:VTIMEZONE
BEGIN:VEVENT
DTSTART;TZID=UTC:20240419T160000
DTEND;TZID=UTC:20240421T120000
DTSTAMP:20260422T222020
CREATED:20240125T095931Z
LAST-MODIFIED:20240401T222903Z
UID:583-1713542400-1713700800@gospelchor-markdorf.de
SUMMARY:Probenwochenende
DESCRIPTION:19.\n–\n21.04.24\nProbenwochenende in Reute
URL:https://gospelchor-markdorf.de/event/probenwochenende/
LOCATION:Kloster Reute (Bad Waldsee)\, Klostergasse 6\, 88339 Bad Waldsee
END:VEVENT
END:VCALENDAR