BEGIN:VCALENDAR
VERSION:2.0
PRODID:-//Gospelchor Markdorf - ECPv6.15.20//NONSGML v1.0//EN
CALSCALE:GREGORIAN
METHOD:PUBLISH
X-WR-CALNAME:Gospelchor Markdorf
X-ORIGINAL-URL:https://gospelchor-markdorf.de
X-WR-CALDESC:Veranstaltungen für Gospelchor Markdorf
REFRESH-INTERVAL;VALUE=DURATION:PT1H
X-Robots-Tag:noindex
X-PUBLISHED-TTL:PT1H
BEGIN:VTIMEZONE
TZID:UTC
BEGIN:STANDARD
TZOFFSETFROM:+0000
TZOFFSETTO:+0000
TZNAME:UTC
DTSTART:20240101T000000
END:STANDARD
END:VTIMEZONE
BEGIN:VEVENT
DTSTART;TZID=UTC:20250430T190000
DTEND;TZID=UTC:20250430T200000
DTSTAMP:20260421T130401
CREATED:20250122T201319Z
LAST-MODIFIED:20250122T201319Z
UID:1617-1746039600-1746043200@gospelchor-markdorf.de
SUMMARY:Jahreshauptversammlung
DESCRIPTION:
URL:https://gospelchor-markdorf.de/event/jahreshauptversammlung-2/
CATEGORIES:Probe
END:VEVENT
END:VCALENDAR