BEGIN:VCALENDAR
VERSION:2.0
PRODID:-//Gospelchor Markdorf - ECPv6.15.20//NONSGML v1.0//EN
CALSCALE:GREGORIAN
METHOD:PUBLISH
X-WR-CALNAME:Gospelchor Markdorf
X-ORIGINAL-URL:https://gospelchor-markdorf.de
X-WR-CALDESC:Veranstaltungen für Gospelchor Markdorf
REFRESH-INTERVAL;VALUE=DURATION:PT1H
X-Robots-Tag:noindex
X-PUBLISHED-TTL:PT1H
BEGIN:VTIMEZONE
TZID:Europe/Helsinki
BEGIN:DAYLIGHT
TZOFFSETFROM:+0200
TZOFFSETTO:+0300
TZNAME:EEST
DTSTART:20230326T010000
END:DAYLIGHT
BEGIN:STANDARD
TZOFFSETFROM:+0300
TZOFFSETTO:+0200
TZNAME:EET
DTSTART:20231029T010000
END:STANDARD
BEGIN:DAYLIGHT
TZOFFSETFROM:+0200
TZOFFSETTO:+0300
TZNAME:EEST
DTSTART:20240331T010000
END:DAYLIGHT
BEGIN:STANDARD
TZOFFSETFROM:+0300
TZOFFSETTO:+0200
TZNAME:EET
DTSTART:20241027T010000
END:STANDARD
BEGIN:DAYLIGHT
TZOFFSETFROM:+0200
TZOFFSETTO:+0300
TZNAME:EEST
DTSTART:20250330T010000
END:DAYLIGHT
BEGIN:STANDARD
TZOFFSETFROM:+0300
TZOFFSETTO:+0200
TZNAME:EET
DTSTART:20251026T010000
END:STANDARD
END:VTIMEZONE
BEGIN:VTIMEZONE
TZID:UTC
BEGIN:STANDARD
TZOFFSETFROM:+0000
TZOFFSETTO:+0000
TZNAME:UTC
DTSTART:20230101T000000
END:STANDARD
END:VTIMEZONE
BEGIN:VEVENT
DTSTART;TZID=Europe/Helsinki:20240505T170000
DTEND;TZID=Europe/Helsinki:20240505T183000
DTSTAMP:20260422T052211
CREATED:20240123T213621Z
LAST-MODIFIED:20240430T223818Z
UID:381-1714928400-1714933800@gospelchor-markdorf.de
SUMMARY:Konzert in Langenargen
DESCRIPTION:Wir haben neue Lieder einstudiert und freuen uns diese im Rahmen von 2 Konzerten präsentieren zu dürfen. \nSie sind herzlich eingeladen dieses neue Konzert zu besuchen. Wir verlangen keinen Eintritt freuen uns jedoch über Spenden\, die wir dann an gemeinnützige Organisationen weitergeben. \nChor interne Infos: \n14 Uhr – Aufbau \n15 Uhr –  Einsingen \n17 Uhr – Konzert \n19.15 – Einkehren Lamm in Markdorf
URL:https://gospelchor-markdorf.de/event/konzert-in-langenargen/
LOCATION:Langenargen St. Martin\, Marktplatz 7\, Langenargen\, Baden-Württemberg\, 88085\, Deutschland
CATEGORIES:Konzerte
END:VEVENT
BEGIN:VEVENT
DTSTART;TZID=UTC:20240508T190000
DTEND;TZID=UTC:20240508T190000
DTSTAMP:20260422T052211
CREATED:20240123T213728Z
LAST-MODIFIED:20240125T095713Z
UID:383-1715194800-1715194800@gospelchor-markdorf.de
SUMMARY:Jahreshauptversammlung
DESCRIPTION:
URL:https://gospelchor-markdorf.de/event/jahreshauptversammlung/
LOCATION:BZM Markdorf\, Ensisheimer Str.1\, Markdorf\, 88677\, Deutschland
END:VEVENT
BEGIN:VEVENT
DTSTART;TZID=UTC:20240521T080000
DTEND;TZID=UTC:20240531T170000
DTSTAMP:20260422T052211
CREATED:20240125T100318Z
LAST-MODIFIED:20240125T100318Z
UID:588-1716278400-1717174800@gospelchor-markdorf.de
SUMMARY:Pfingstferien
DESCRIPTION:21.05.2024 – 31.05.2024
URL:https://gospelchor-markdorf.de/event/pfingstferien/
END:VEVENT
END:VCALENDAR