BEGIN:VCALENDAR
VERSION:2.0
PRODID:-//Gospelchor Markdorf - ECPv6.15.20//NONSGML v1.0//EN
CALSCALE:GREGORIAN
METHOD:PUBLISH
X-ORIGINAL-URL:https://gospelchor-markdorf.de
X-WR-CALDESC:Veranstaltungen für Gospelchor Markdorf
REFRESH-INTERVAL;VALUE=DURATION:PT1H
X-Robots-Tag:noindex
X-PUBLISHED-TTL:PT1H
BEGIN:VTIMEZONE
TZID:UTC
BEGIN:STANDARD
TZOFFSETFROM:+0000
TZOFFSETTO:+0000
TZNAME:UTC
DTSTART:20240101T000000
END:STANDARD
END:VTIMEZONE
BEGIN:VEVENT
DTSTART;TZID=UTC:20250621T140000
DTEND;TZID=UTC:20250621T170000
DTSTAMP:20260421T101343
CREATED:20250122T200810Z
LAST-MODIFIED:20250122T200924Z
UID:1610-1750514400-1750525200@gospelchor-markdorf.de
SUMMARY:Hochzeit
DESCRIPTION:
URL:https://gospelchor-markdorf.de/event/hochzeit-michelle-walter/
CATEGORIES:Hochzeit
END:VEVENT
END:VCALENDAR